BEGIN:VCALENDAR
VERSION:2.0
PRODID:-//Archdiocese of Hartford - ECPv6.15.20//NONSGML v1.0//EN
CALSCALE:GREGORIAN
METHOD:PUBLISH
X-WR-CALNAME:Archdiocese of Hartford
X-ORIGINAL-URL:https://archdioceseofhartford.org
X-WR-CALDESC:Events for Archdiocese of Hartford
REFRESH-INTERVAL;VALUE=DURATION:PT1H
X-Robots-Tag:noindex
X-PUBLISHED-TTL:PT1H
BEGIN:VTIMEZONE
TZID:America/New_York
BEGIN:DAYLIGHT
TZOFFSETFROM:-0500
TZOFFSETTO:-0400
TZNAME:EDT
DTSTART:20240310T070000
END:DAYLIGHT
BEGIN:STANDARD
TZOFFSETFROM:-0400
TZOFFSETTO:-0500
TZNAME:EST
DTSTART:20241103T060000
END:STANDARD
BEGIN:DAYLIGHT
TZOFFSETFROM:-0500
TZOFFSETTO:-0400
TZNAME:EDT
DTSTART:20250309T070000
END:DAYLIGHT
BEGIN:STANDARD
TZOFFSETFROM:-0400
TZOFFSETTO:-0500
TZNAME:EST
DTSTART:20251102T060000
END:STANDARD
BEGIN:DAYLIGHT
TZOFFSETFROM:-0500
TZOFFSETTO:-0400
TZNAME:EDT
DTSTART:20260308T070000
END:DAYLIGHT
BEGIN:STANDARD
TZOFFSETFROM:-0400
TZOFFSETTO:-0500
TZNAME:EST
DTSTART:20261101T060000
END:STANDARD
END:VTIMEZONE
BEGIN:VEVENT
DTSTART;TZID=America/New_York:20251107T180000
DTEND;TZID=America/New_York:20251107T190000
DTSTAMP:20260422T102559
CREATED:20251022T123840Z
LAST-MODIFIED:20251022T123840Z
UID:10000023-1762538400-1762542000@archdioceseofhartford.org
SUMMARY:Mass of Healing
DESCRIPTION:Experience the Power of Healing — In these challenging times\, many of us carry burdens – be it physical ailments like cancer and kidney disease\, emotional struggles like depression\, anxiety\, PTSD and grief\, or spiritual battles. YOU’RE NOT ALONE. Reconnect\, find solace\, and embrace the healing powers of our divine physician\, Jesus Christ. A special Healing Mass with anointing of the sick will be celebrated by Rev. Emmanuel Ihemedu\, pastor of St. John Paul the Great Parish in Torrington. The evening begins with the Divine Mercy Chaplet followed by the Mass. Let’s come together\, share our stories\, and experience the transformative power of faith. Remember\, Jesus is still in the business of healing.
URL:https://archdioceseofhartford.org/event/mass-of-healing/
LOCATION:St. Peter Church\, 99 East Main St\, Torrington\, CT\, 06790
ATTACH;FMTTYPE=image/jpeg:https://archdioceseofhartford.org/wp-content/uploads/2025/10/sjpgp-healing-mass-november-2025-scaled.jpg
END:VEVENT
END:VCALENDAR