BEGIN:VCALENDAR
VERSION:2.0
PRODID:-//Archdiocese of Hartford - ECPv6.15.20//NONSGML v1.0//EN
CALSCALE:GREGORIAN
METHOD:PUBLISH
X-ORIGINAL-URL:https://archdioceseofhartford.org
X-WR-CALDESC:Events for Archdiocese of Hartford
REFRESH-INTERVAL;VALUE=DURATION:PT1H
X-Robots-Tag:noindex
X-PUBLISHED-TTL:PT1H
BEGIN:VTIMEZONE
TZID:America/New_York
BEGIN:DAYLIGHT
TZOFFSETFROM:-0500
TZOFFSETTO:-0400
TZNAME:EDT
DTSTART:20240310T070000
END:DAYLIGHT
BEGIN:STANDARD
TZOFFSETFROM:-0400
TZOFFSETTO:-0500
TZNAME:EST
DTSTART:20241103T060000
END:STANDARD
BEGIN:DAYLIGHT
TZOFFSETFROM:-0500
TZOFFSETTO:-0400
TZNAME:EDT
DTSTART:20250309T070000
END:DAYLIGHT
BEGIN:STANDARD
TZOFFSETFROM:-0400
TZOFFSETTO:-0500
TZNAME:EST
DTSTART:20251102T060000
END:STANDARD
BEGIN:DAYLIGHT
TZOFFSETFROM:-0500
TZOFFSETTO:-0400
TZNAME:EDT
DTSTART:20260308T070000
END:DAYLIGHT
BEGIN:STANDARD
TZOFFSETFROM:-0400
TZOFFSETTO:-0500
TZNAME:EST
DTSTART:20261101T060000
END:STANDARD
END:VTIMEZONE
BEGIN:VEVENT
DTSTART;TZID=America/New_York:20251121T150000
DTEND;TZID=America/New_York:20251121T200000
DTSTAMP:20260422T102323
CREATED:20251112T141800Z
LAST-MODIFIED:20251112T141800Z
UID:10000032-1763737200-1763755200@archdioceseofhartford.org
SUMMARY:Holly Berry Festival
DESCRIPTION:The Apostles of the Sacred Heart of Jesus present the 47th Annual Holly Berry Festival! Featuring: 50+ crafter booths\, raffle prizes\, kids’ activities\, food court\, bake sale\, Santa & more!
URL:https://archdioceseofhartford.org/event/holly-berry-festival/2025-11-21/
LOCATION:Sacred Heart Academy\, 265 Benham Street\, Hamden\, CT
ATTACH;FMTTYPE=image/png:https://archdioceseofhartford.org/wp-content/uploads/2025/11/Holly-Berry-vertical-ad-scaled.png
END:VEVENT
END:VCALENDAR