BEGIN:VCALENDAR
VERSION:2.0
PRODID:-//Archdiocese of Hartford - ECPv6.15.20//NONSGML v1.0//EN
CALSCALE:GREGORIAN
METHOD:PUBLISH
X-WR-CALNAME:Archdiocese of Hartford
X-ORIGINAL-URL:https://archdioceseofhartford.org
X-WR-CALDESC:Events for Archdiocese of Hartford
REFRESH-INTERVAL;VALUE=DURATION:PT1H
X-Robots-Tag:noindex
X-PUBLISHED-TTL:PT1H
BEGIN:VTIMEZONE
TZID:America/New_York
BEGIN:DAYLIGHT
TZOFFSETFROM:-0500
TZOFFSETTO:-0400
TZNAME:EDT
DTSTART:20240310T070000
END:DAYLIGHT
BEGIN:STANDARD
TZOFFSETFROM:-0400
TZOFFSETTO:-0500
TZNAME:EST
DTSTART:20241103T060000
END:STANDARD
BEGIN:DAYLIGHT
TZOFFSETFROM:-0500
TZOFFSETTO:-0400
TZNAME:EDT
DTSTART:20250309T070000
END:DAYLIGHT
BEGIN:STANDARD
TZOFFSETFROM:-0400
TZOFFSETTO:-0500
TZNAME:EST
DTSTART:20251102T060000
END:STANDARD
BEGIN:DAYLIGHT
TZOFFSETFROM:-0500
TZOFFSETTO:-0400
TZNAME:EDT
DTSTART:20260308T070000
END:DAYLIGHT
BEGIN:STANDARD
TZOFFSETFROM:-0400
TZOFFSETTO:-0500
TZNAME:EST
DTSTART:20261101T060000
END:STANDARD
END:VTIMEZONE
BEGIN:VEVENT
DTSTART;TZID=America/New_York:20251209T183000
DTEND;TZID=America/New_York:20251209T183000
DTSTAMP:20260422T083927
CREATED:20251118T210152Z
LAST-MODIFIED:20251118T210152Z
UID:10000040-1765305000-1765305000@archdioceseofhartford.org
SUMMARY:Saint Bridget of Sweden Parish - Rooted in Hope\, Advent Mission 2025
DESCRIPTION:We are thrilled to welcome Dave Nodar\, Founder and Senior Leader of ChristLife Catholic Ministry for Evangelization\, as our retreat speaker! Dave will guide us in reflecting on hope in our encounter with Christ and how it can transform our lives. \nRSVP to: Sister Fiat Marie at srfiatmarie@cheshirecatholic.org or 203-272-3531. Free Childcare is available for the events.
URL:https://archdioceseofhartford.org/event/saint-bridget-of-sweden-parish-rooted-in-hope-advent-mission-2025/2025-12-09/
LOCATION:Saint Bridget Church\, 175 Main St\, Cheshire\, CT\, United States
ATTACH;FMTTYPE=image/png:https://archdioceseofhartford.org/wp-content/uploads/2025/11/Rooted.png
END:VEVENT
END:VCALENDAR