BEGIN:VCALENDAR
VERSION:2.0
PRODID:-//Archdiocese of Hartford - ECPv6.15.20//NONSGML v1.0//EN
CALSCALE:GREGORIAN
METHOD:PUBLISH
X-ORIGINAL-URL:https://archdioceseofhartford.org
X-WR-CALDESC:Events for Archdiocese of Hartford
REFRESH-INTERVAL;VALUE=DURATION:PT1H
X-Robots-Tag:noindex
X-PUBLISHED-TTL:PT1H
BEGIN:VTIMEZONE
TZID:America/New_York
BEGIN:DAYLIGHT
TZOFFSETFROM:-0500
TZOFFSETTO:-0400
TZNAME:EDT
DTSTART:20240310T070000
END:DAYLIGHT
BEGIN:STANDARD
TZOFFSETFROM:-0400
TZOFFSETTO:-0500
TZNAME:EST
DTSTART:20241103T060000
END:STANDARD
BEGIN:DAYLIGHT
TZOFFSETFROM:-0500
TZOFFSETTO:-0400
TZNAME:EDT
DTSTART:20250309T070000
END:DAYLIGHT
BEGIN:STANDARD
TZOFFSETFROM:-0400
TZOFFSETTO:-0500
TZNAME:EST
DTSTART:20251102T060000
END:STANDARD
BEGIN:DAYLIGHT
TZOFFSETFROM:-0500
TZOFFSETTO:-0400
TZNAME:EDT
DTSTART:20260308T070000
END:DAYLIGHT
BEGIN:STANDARD
TZOFFSETFROM:-0400
TZOFFSETTO:-0500
TZNAME:EST
DTSTART:20261101T060000
END:STANDARD
END:VTIMEZONE
BEGIN:VEVENT
DTSTART;TZID=America/New_York:20251219T190000
DTEND;TZID=America/New_York:20251219T190000
DTSTAMP:20260422T084303
CREATED:20251119T213106Z
LAST-MODIFIED:20251119T213230Z
UID:10000041-1766170800-1766170800@archdioceseofhartford.org
SUMMARY:Wielkie kolędowanie – Hartford\, CT – Katedra św. Józefa
DESCRIPTION:Ten wieczór upłynie pod znakiem najpiękniejszych kolęd w wykonaniu plejady polskich gwiazd. Już 19 grudnia 2025 r. w Katedrze św. Józefa w Hartford (CT) odbędzie się “Wielkie kolędowanie” podczas którego wystąpią: Andrzej Piaseczny\, Paulla\, Andrzej Krzywy\, Majka Jeżowska\, Sławomir & Kajra\, Rafał Brzozowski\, Classic. Koncert poprowadzi Tomasz Kammel. \nInfo and tickets: https://polskieimprezy.com/wielkie-koledowanie-hartford-ct/
URL:https://archdioceseofhartford.org/event/wielkie-koledowanie-hartford-ct-katedra-sw-jozefa/
LOCATION:Cathedral of Saint Joseph\, 140 Farmington Avenue\, Hartford\, CT\, 06105
ATTACH;FMTTYPE=image/webp:https://archdioceseofhartford.org/wp-content/uploads/2025/11/hartford-wielkie-koledowanie.webp
END:VEVENT
END:VCALENDAR