BEGIN:VCALENDAR
VERSION:2.0
PRODID:-//Archdiocese of Hartford - ECPv6.15.20//NONSGML v1.0//EN
CALSCALE:GREGORIAN
METHOD:PUBLISH
X-ORIGINAL-URL:https://archdioceseofhartford.org
X-WR-CALDESC:Events for Archdiocese of Hartford
REFRESH-INTERVAL;VALUE=DURATION:PT1H
X-Robots-Tag:noindex
X-PUBLISHED-TTL:PT1H
BEGIN:VTIMEZONE
TZID:America/New_York
BEGIN:DAYLIGHT
TZOFFSETFROM:-0500
TZOFFSETTO:-0400
TZNAME:EDT
DTSTART:20250309T070000
END:DAYLIGHT
BEGIN:STANDARD
TZOFFSETFROM:-0400
TZOFFSETTO:-0500
TZNAME:EST
DTSTART:20251102T060000
END:STANDARD
BEGIN:DAYLIGHT
TZOFFSETFROM:-0500
TZOFFSETTO:-0400
TZNAME:EDT
DTSTART:20260308T070000
END:DAYLIGHT
BEGIN:STANDARD
TZOFFSETFROM:-0400
TZOFFSETTO:-0500
TZNAME:EST
DTSTART:20261101T060000
END:STANDARD
BEGIN:DAYLIGHT
TZOFFSETFROM:-0500
TZOFFSETTO:-0400
TZNAME:EDT
DTSTART:20270314T070000
END:DAYLIGHT
BEGIN:STANDARD
TZOFFSETFROM:-0400
TZOFFSETTO:-0500
TZNAME:EST
DTSTART:20271107T060000
END:STANDARD
END:VTIMEZONE
BEGIN:VEVENT
DTSTART;TZID=America/New_York:20260107T183000
DTEND;TZID=America/New_York:20260107T203000
DTSTAMP:20260421T180623
CREATED:20251203T195537Z
LAST-MODIFIED:20251203T195537Z
UID:10000044-1767810600-1767817800@archdioceseofhartford.org
SUMMARY:Workshop of Formation and Reflection for Extraordinary Ministers of Holy Communion
DESCRIPTION:Extraordinary Ministers of Holy Communion\, whether new to the ministry or experienced\, are invited to attend a workshop of formation and reflection. \nThe bi-lingual (English/Spanish) sessions will be held at Our Lady of Sorrows Church in Hartford and will be conducted by Fr. Daniel Valente and Deacon Victor Bilbraut. For questions about the workshops\, please contact the parish at olschurch@olsparish.comcastbiz.net or (860) 233-4424. \nTo register: https://forms.gle/pGvU1veddtJRaJr58
URL:https://archdioceseofhartford.org/event/workshop-of-formation-and-reflection-for-extraordinary-ministers-of-holy-communion/2026-01-07/
LOCATION:Our Lady of Sorrows\, 79 New Park Ave\, Hartford\, Connecticut\, 06106
END:VEVENT
END:VCALENDAR