BEGIN:VCALENDAR
VERSION:2.0
PRODID:-//Archdiocese of Hartford - ECPv6.15.20//NONSGML v1.0//EN
CALSCALE:GREGORIAN
METHOD:PUBLISH
X-ORIGINAL-URL:https://archdioceseofhartford.org
X-WR-CALDESC:Events for Archdiocese of Hartford
REFRESH-INTERVAL;VALUE=DURATION:PT1H
X-Robots-Tag:noindex
X-PUBLISHED-TTL:PT1H
BEGIN:VTIMEZONE
TZID:America/New_York
BEGIN:DAYLIGHT
TZOFFSETFROM:-0500
TZOFFSETTO:-0400
TZNAME:EDT
DTSTART:20250309T070000
END:DAYLIGHT
BEGIN:STANDARD
TZOFFSETFROM:-0400
TZOFFSETTO:-0500
TZNAME:EST
DTSTART:20251102T060000
END:STANDARD
BEGIN:DAYLIGHT
TZOFFSETFROM:-0500
TZOFFSETTO:-0400
TZNAME:EDT
DTSTART:20260308T070000
END:DAYLIGHT
BEGIN:STANDARD
TZOFFSETFROM:-0400
TZOFFSETTO:-0500
TZNAME:EST
DTSTART:20261101T060000
END:STANDARD
BEGIN:DAYLIGHT
TZOFFSETFROM:-0500
TZOFFSETTO:-0400
TZNAME:EDT
DTSTART:20270314T070000
END:DAYLIGHT
BEGIN:STANDARD
TZOFFSETFROM:-0400
TZOFFSETTO:-0500
TZNAME:EST
DTSTART:20271107T060000
END:STANDARD
END:VTIMEZONE
BEGIN:VEVENT
DTSTART;TZID=America/New_York:20260109T180000
DTEND;TZID=America/New_York:20260109T180000
DTSTAMP:20260421T145454
CREATED:20260108T160006Z
LAST-MODIFIED:20260108T160053Z
UID:10000059-1767981600-1767981600@archdioceseofhartford.org
SUMMARY:Discernment Night
DESCRIPTION:All young adults invited to attend our semi annual Discernment Night!! We have 3 fantastic speakers coming to share their experiences discerning their vocations!\nFather Anthony Federico\, vocations director of the Archiocese of Hartford\, Sister Colleen Mattingly of the Apostles of the Sacred Heart of Jesus and Tommy and Emily Santopietro\, married couple involved in the Immaculate Conception Parish and Crossroads 4 Christ.\nEnjoy a delicious meal planned for you to grow in fellowship and be inspired in faith!\nRegister at this link: [https://icp.faithteams.com/discern2026]
URL:https://archdioceseofhartford.org/event/discernment-night/
LOCATION:Basilica of the Immaculate Conception\, 74 West Main Street\, Waterbury\, CT\, 06702
ATTACH;FMTTYPE=image/jpeg:https://archdioceseofhartford.org/wp-content/uploads/2026/01/612492755_1310731347763705_924168675949181750_n.jpg
END:VEVENT
END:VCALENDAR