BEGIN:VCALENDAR
VERSION:2.0
PRODID:-//Archdiocese of Hartford - ECPv6.15.20//NONSGML v1.0//EN
CALSCALE:GREGORIAN
METHOD:PUBLISH
X-WR-CALNAME:Archdiocese of Hartford
X-ORIGINAL-URL:https://archdioceseofhartford.org
X-WR-CALDESC:Events for Archdiocese of Hartford
REFRESH-INTERVAL;VALUE=DURATION:PT1H
X-Robots-Tag:noindex
X-PUBLISHED-TTL:PT1H
BEGIN:VTIMEZONE
TZID:America/New_York
BEGIN:DAYLIGHT
TZOFFSETFROM:-0500
TZOFFSETTO:-0400
TZNAME:EDT
DTSTART:20250309T070000
END:DAYLIGHT
BEGIN:STANDARD
TZOFFSETFROM:-0400
TZOFFSETTO:-0500
TZNAME:EST
DTSTART:20251102T060000
END:STANDARD
BEGIN:DAYLIGHT
TZOFFSETFROM:-0500
TZOFFSETTO:-0400
TZNAME:EDT
DTSTART:20260308T070000
END:DAYLIGHT
BEGIN:STANDARD
TZOFFSETFROM:-0400
TZOFFSETTO:-0500
TZNAME:EST
DTSTART:20261101T060000
END:STANDARD
BEGIN:DAYLIGHT
TZOFFSETFROM:-0500
TZOFFSETTO:-0400
TZNAME:EDT
DTSTART:20270314T070000
END:DAYLIGHT
BEGIN:STANDARD
TZOFFSETFROM:-0400
TZOFFSETTO:-0500
TZNAME:EST
DTSTART:20271107T060000
END:STANDARD
END:VTIMEZONE
BEGIN:VEVENT
DTSTART;TZID=America/New_York:20260110T100000
DTEND;TZID=America/New_York:20260110T120000
DTSTAMP:20260421T132307
CREATED:20251203T195537Z
LAST-MODIFIED:20251203T195537Z
UID:10000047-1768039200-1768046400@archdioceseofhartford.org
SUMMARY:Workshop of Formation and Reflection for Extraordinary Ministers of Holy Communion
DESCRIPTION:Extraordinary Ministers of Holy Communion\, whether new to the ministry or experienced\, are invited to attend a workshop of formation and reflection. \nThe bi-lingual (English/Spanish) sessions will be held at Our Lady of Sorrows Church in Hartford and will be conducted by Fr. Daniel Valente and Deacon Victor Bilbraut. For questions about the workshops\, please contact the parish at olschurch@olsparish.comcastbiz.net or (860) 233-4424. \nTo register: https://forms.gle/pGvU1veddtJRaJr58
URL:https://archdioceseofhartford.org/event/workshop-of-formation-and-reflection-for-extraordinary-ministers-of-holy-communion/2026-01-10/
LOCATION:Our Lady of Sorrows\, 79 New Park Ave\, Hartford\, Connecticut\, 06106
END:VEVENT
BEGIN:VEVENT
DTSTART;TZID=America/New_York:20260110T130000
DTEND;TZID=America/New_York:20260110T150000
DTSTAMP:20260421T132307
CREATED:20251203T195525Z
LAST-MODIFIED:20251203T195525Z
UID:10000045-1768050000-1768057200@archdioceseofhartford.org
SUMMARY:Workshop of Formation and Reflection for Lectors
DESCRIPTION:Lectors\, whether new to the ministry or experienced\, are invited to attend a workshop of formation and reflection. \nThe bi-lingual (English/Spanish) sessions will be held at Our Lady of Sorrows Church in Hartford and will be conducted by Fr. Daniel Valente and Deacon Victor Bilbraut. For questions about the workshops\, please contact the parish at olschurch@olsparish.comcastbiz.net or (860) 233-4424. \nTo register: https://forms.gle/pGvU1veddtJRaJr58
URL:https://archdioceseofhartford.org/event/workshop-of-formation-and-reflection-for-lectors/2026-01-10/
LOCATION:Our Lady of Sorrows\, 79 New Park Ave\, Hartford\, Connecticut\, 06106
END:VEVENT
BEGIN:VEVENT
DTSTART;TZID=America/New_York:20260110T160000
DTEND;TZID=America/New_York:20260110T160000
DTSTAMP:20260421T132307
CREATED:20251113T213508Z
LAST-MODIFIED:20251113T213718Z
UID:10000035-1768060800-1768060800@archdioceseofhartford.org
SUMMARY:Navigating the New Year: A Retreat for College Students
DESCRIPTION:Navigating the challenging waters of our world today calls us to cultivate skills and habits to ground ourselves in what matters most\, orient ourselves in alignment with our values\, set a course with hope\, and persevere on the journey with joy and humor in community with others. On this retreat you will:\n\n\nSpend time in silence and prayer while building connection through shared reflection sessions and in conversation over delicious meals.\nNourish a sense of wonder and awe immersed in the natural beauty at Mercy by the Sea through guided meditation on the beach\, walking the nature path through the woodlands\, and witnessing the abundant wildlife that share these grounds.\nExplore opportunities for creative expression including journaling\, painting\, poetry\, and art.\nFoster skills of discernment\, communication and reflection while deepening your capacity for reflection\, empathy\, and compassion.\n\nBefore heading back to campus for the spring semester\, gather with fellow college students to reflect\, restore and renew your spirit for the year ahead.\nFor more information and to register visit:\nhttps://www.mercybythesea.org/retreats/themed-retreats/navigating-the-new-year/
URL:https://archdioceseofhartford.org/event/navigating-the-new-year-a-retreat-for-college-students/
LOCATION:Mercy by the Sea Retreat Center\, 167 Neck Rd\, Madison\, CT\, 06443
ATTACH;FMTTYPE=image/png:https://archdioceseofhartford.org/wp-content/uploads/2025/11/Unknown.png
END:VEVENT
END:VCALENDAR