BEGIN:VCALENDAR
VERSION:2.0
PRODID:-//Archdiocese of Hartford - ECPv6.15.20//NONSGML v1.0//EN
CALSCALE:GREGORIAN
METHOD:PUBLISH
X-ORIGINAL-URL:https://archdioceseofhartford.org
X-WR-CALDESC:Events for Archdiocese of Hartford
REFRESH-INTERVAL;VALUE=DURATION:PT1H
X-Robots-Tag:noindex
X-PUBLISHED-TTL:PT1H
BEGIN:VTIMEZONE
TZID:America/New_York
BEGIN:DAYLIGHT
TZOFFSETFROM:-0500
TZOFFSETTO:-0400
TZNAME:EDT
DTSTART:20250309T070000
END:DAYLIGHT
BEGIN:STANDARD
TZOFFSETFROM:-0400
TZOFFSETTO:-0500
TZNAME:EST
DTSTART:20251102T060000
END:STANDARD
BEGIN:DAYLIGHT
TZOFFSETFROM:-0500
TZOFFSETTO:-0400
TZNAME:EDT
DTSTART:20260308T070000
END:DAYLIGHT
BEGIN:STANDARD
TZOFFSETFROM:-0400
TZOFFSETTO:-0500
TZNAME:EST
DTSTART:20261101T060000
END:STANDARD
BEGIN:DAYLIGHT
TZOFFSETFROM:-0500
TZOFFSETTO:-0400
TZNAME:EDT
DTSTART:20270314T070000
END:DAYLIGHT
BEGIN:STANDARD
TZOFFSETFROM:-0400
TZOFFSETTO:-0500
TZNAME:EST
DTSTART:20271107T060000
END:STANDARD
END:VTIMEZONE
BEGIN:VEVENT
DTSTART;TZID=America/New_York:20260424T190000
DTEND;TZID=America/New_York:20260424T210000
DTSTAMP:20260421T052804
CREATED:20260330T193102Z
LAST-MODIFIED:20260330T193102Z
UID:10000192-1777057200-1777064400@archdioceseofhartford.org
SUMMARY:AI. Faith. Your Career. Are They Compatible?
DESCRIPTION:Young Catholic Professionals Speaker Event \n“AI. Faith. Your Career. Are They Compatible?” \nCome join Young Catholic Professionals Central CT for our next Executive Speaker Series Event! Come enjoy light refreshments and networking along with a talk by Omar Kouatly on AI and faith in the workplace. We look forward to meeting you there! \n  \nWhere: St. Mary’s Church\, 5 Hillhouse Ave\, New Haven \nWhen: Friday\, April 24th from 7 – 9 PM \nWho: All professionals from 18-39. \nRSVP: https://ycp.glueup.com/event/ai-faith-your-career-are-they-compatible-176602/?pk_campaign=widget-event-list
URL:https://archdioceseofhartford.org/event/ai-faith-your-career-are-they-compatible/
LOCATION:St. Mary Church – New Haven\, New Haven\, CT
ATTACH;FMTTYPE=image/jpeg:https://archdioceseofhartford.org/wp-content/uploads/2026/03/April-YCP-event.jpeg
END:VEVENT
END:VCALENDAR