BEGIN:VCALENDAR
VERSION:2.0
PRODID:-//Archdiocese of Hartford - ECPv6.15.20//NONSGML v1.0//EN
CALSCALE:GREGORIAN
METHOD:PUBLISH
X-ORIGINAL-URL:https://archdioceseofhartford.org
X-WR-CALDESC:Events for Archdiocese of Hartford
REFRESH-INTERVAL;VALUE=DURATION:PT1H
X-Robots-Tag:noindex
X-PUBLISHED-TTL:PT1H
BEGIN:VTIMEZONE
TZID:America/New_York
BEGIN:DAYLIGHT
TZOFFSETFROM:-0500
TZOFFSETTO:-0400
TZNAME:EDT
DTSTART:20250309T070000
END:DAYLIGHT
BEGIN:STANDARD
TZOFFSETFROM:-0400
TZOFFSETTO:-0500
TZNAME:EST
DTSTART:20251102T060000
END:STANDARD
BEGIN:DAYLIGHT
TZOFFSETFROM:-0500
TZOFFSETTO:-0400
TZNAME:EDT
DTSTART:20260308T070000
END:DAYLIGHT
BEGIN:STANDARD
TZOFFSETFROM:-0400
TZOFFSETTO:-0500
TZNAME:EST
DTSTART:20261101T060000
END:STANDARD
BEGIN:DAYLIGHT
TZOFFSETFROM:-0500
TZOFFSETTO:-0400
TZNAME:EDT
DTSTART:20270314T070000
END:DAYLIGHT
BEGIN:STANDARD
TZOFFSETFROM:-0400
TZOFFSETTO:-0500
TZNAME:EST
DTSTART:20271107T060000
END:STANDARD
END:VTIMEZONE
BEGIN:VEVENT
DTSTART;TZID=America/New_York:20260604T093000
DTEND;TZID=America/New_York:20260604T150000
DTSTAMP:20260419T112417
CREATED:20260324T191859Z
LAST-MODIFIED:20260324T192251Z
UID:10000122-1780565400-1780585200@archdioceseofhartford.org
SUMMARY:New Day Seminar for the Bereaved
DESCRIPTION:This seminar helps those who have lost a loved one with the tasks of grieving. The cost of the book is $12.00. \nReservations required. Call Sr. Patricia Cigrand 203-606-4830 or email cigrandpatricia@gmail. \nA free will offering will be welcomed. \nSee https://www.sacredheartonthelake.org/upcomingofferings for a complete write-up for each of our retreats and all our other programs.
URL:https://archdioceseofhartford.org/event/new-day-seminar-for-the-bereaved/2026-06-04/
LOCATION:Sacred Heart on the Lake Retreat Center\, 194 Candlewood Hill Rd\, Higganum\, CT
ATTACH;FMTTYPE=image/jpeg:https://archdioceseofhartford.org/wp-content/uploads/2026/03/Sacred-Heart-on-the-Lake-Retreat-Center.jpg
END:VEVENT
BEGIN:VEVENT
DTSTART;TZID=America/New_York:20260615T080000
DTEND;TZID=America/New_York:20260615T160000
DTSTAMP:20260419T112417
CREATED:20260407T151708Z
LAST-MODIFIED:20260407T151708Z
UID:10000193-1781510400-1781539200@archdioceseofhartford.org
SUMMARY:Young Men's Retreat
DESCRIPTION:
URL:https://archdioceseofhartford.org/event/young-mens-retreat/
LOCATION:Holy Family Retreat Center\, 303 Tunxis Rd\, West Hartford\, CT\, 06107\, United States
ATTACH;FMTTYPE=image/png:https://archdioceseofhartford.org/wp-content/uploads/2026/04/Screenshot-2026-04-07-at-11.09.58-AM.png
ORGANIZER;CN="Kingsmen Young Men's Group at St. Paul Parish":MAILTO:tonyd433@gmail.com
END:VEVENT
END:VCALENDAR