BEGIN:VCALENDAR
VERSION:2.0
PRODID:-//Archdiocese of Hartford - ECPv6.15.20//NONSGML v1.0//EN
CALSCALE:GREGORIAN
METHOD:PUBLISH
X-ORIGINAL-URL:https://archdioceseofhartford.org
X-WR-CALDESC:Events for Archdiocese of Hartford
REFRESH-INTERVAL;VALUE=DURATION:PT1H
X-Robots-Tag:noindex
X-PUBLISHED-TTL:PT1H
BEGIN:VTIMEZONE
TZID:America/New_York
BEGIN:DAYLIGHT
TZOFFSETFROM:-0500
TZOFFSETTO:-0400
TZNAME:EDT
DTSTART:20250309T070000
END:DAYLIGHT
BEGIN:STANDARD
TZOFFSETFROM:-0400
TZOFFSETTO:-0500
TZNAME:EST
DTSTART:20251102T060000
END:STANDARD
BEGIN:DAYLIGHT
TZOFFSETFROM:-0500
TZOFFSETTO:-0400
TZNAME:EDT
DTSTART:20260308T070000
END:DAYLIGHT
BEGIN:STANDARD
TZOFFSETFROM:-0400
TZOFFSETTO:-0500
TZNAME:EST
DTSTART:20261101T060000
END:STANDARD
BEGIN:DAYLIGHT
TZOFFSETFROM:-0500
TZOFFSETTO:-0400
TZNAME:EDT
DTSTART:20270314T070000
END:DAYLIGHT
BEGIN:STANDARD
TZOFFSETFROM:-0400
TZOFFSETTO:-0500
TZNAME:EST
DTSTART:20271107T060000
END:STANDARD
END:VTIMEZONE
BEGIN:VEVENT
DTSTART;TZID=America/New_York:20260409T190000
DTEND;TZID=America/New_York:20260409T200000
DTSTAMP:20260422T134240
CREATED:20260309T200008Z
LAST-MODIFIED:20260309T200008Z
UID:10000091-1775761200-1775764800@archdioceseofhartford.org
SUMMARY:A Call from the Heart: A Franciscan Approach to Ecology
DESCRIPTION:The Franciscan Life Center is offering a presentation on a contemporary approach to ecology given by Sister Damien Marie Savino\, FSE\, Ph.D.  A Call from the Heart: A Franciscan Approach to Ecology reflects on how inner human healing and outer ecological healing mutually impact each other in the human vocation to care for creation. \nNo cost for admission.  Registration necessary. \n203-237-8084 or visit flcenter.org.
URL:https://archdioceseofhartford.org/event/a-call-from-the-heart-a-franciscan-approach-to-ecology/
LOCATION:Franciscan Life Center Campus\, 275 Finch Ave\, Meriden\, CT\, 06451
ATTACH;FMTTYPE=image/jpeg:https://archdioceseofhartford.org/wp-content/uploads/2026/03/Sister-Damien-Marie-Flyer-8.5-x-11-in-004-scaled.jpg
END:VEVENT
END:VCALENDAR