BEGIN:VCALENDAR
VERSION:2.0
PRODID:-//Archdiocese of Hartford - ECPv6.15.20//NONSGML v1.0//EN
CALSCALE:GREGORIAN
METHOD:PUBLISH
X-ORIGINAL-URL:https://archdioceseofhartford.org
X-WR-CALDESC:Events for Archdiocese of Hartford
REFRESH-INTERVAL;VALUE=DURATION:PT1H
X-Robots-Tag:noindex
X-PUBLISHED-TTL:PT1H
BEGIN:VTIMEZONE
TZID:America/New_York
BEGIN:DAYLIGHT
TZOFFSETFROM:-0500
TZOFFSETTO:-0400
TZNAME:EDT
DTSTART:20240310T070000
END:DAYLIGHT
BEGIN:STANDARD
TZOFFSETFROM:-0400
TZOFFSETTO:-0500
TZNAME:EST
DTSTART:20241103T060000
END:STANDARD
BEGIN:DAYLIGHT
TZOFFSETFROM:-0500
TZOFFSETTO:-0400
TZNAME:EDT
DTSTART:20250309T070000
END:DAYLIGHT
BEGIN:STANDARD
TZOFFSETFROM:-0400
TZOFFSETTO:-0500
TZNAME:EST
DTSTART:20251102T060000
END:STANDARD
BEGIN:DAYLIGHT
TZOFFSETFROM:-0500
TZOFFSETTO:-0400
TZNAME:EDT
DTSTART:20260308T070000
END:DAYLIGHT
BEGIN:STANDARD
TZOFFSETFROM:-0400
TZOFFSETTO:-0500
TZNAME:EST
DTSTART:20261101T060000
END:STANDARD
END:VTIMEZONE
BEGIN:VEVENT
DTSTART;TZID=America/New_York:20251115T090000
DTEND;TZID=America/New_York:20251115T150000
DTSTAMP:20260424T012756
CREATED:20251020T202047Z
LAST-MODIFIED:20251020T202047Z
UID:10000019-1763197200-1763218800@archdioceseofhartford.org
SUMMARY:St. Francis Xavier Ladies Guild Christmas Bazaar
DESCRIPTION:
URL:https://archdioceseofhartford.org/event/st-francis-xavier-ladies-guild-christmas-bazaar/
LOCATION:St. Francis Xavier Hall\, 109 Washington St\, Waterbury\, CT
ATTACH;FMTTYPE=image/png:https://archdioceseofhartford.org/wp-content/uploads/2025/10/Screenshot-2025-10-20-at-4.19.02-PM.png
END:VEVENT
END:VCALENDAR