BEGIN:VCALENDAR
VERSION:2.0
PRODID:-//Archdiocese of Hartford - ECPv6.15.20//NONSGML v1.0//EN
CALSCALE:GREGORIAN
METHOD:PUBLISH
X-ORIGINAL-URL:https://archdioceseofhartford.org
X-WR-CALDESC:Events for Archdiocese of Hartford
REFRESH-INTERVAL;VALUE=DURATION:PT1H
X-Robots-Tag:noindex
X-PUBLISHED-TTL:PT1H
BEGIN:VTIMEZONE
TZID:America/New_York
BEGIN:DAYLIGHT
TZOFFSETFROM:-0500
TZOFFSETTO:-0400
TZNAME:EDT
DTSTART:20240310T070000
END:DAYLIGHT
BEGIN:STANDARD
TZOFFSETFROM:-0400
TZOFFSETTO:-0500
TZNAME:EST
DTSTART:20241103T060000
END:STANDARD
BEGIN:DAYLIGHT
TZOFFSETFROM:-0500
TZOFFSETTO:-0400
TZNAME:EDT
DTSTART:20250309T070000
END:DAYLIGHT
BEGIN:STANDARD
TZOFFSETFROM:-0400
TZOFFSETTO:-0500
TZNAME:EST
DTSTART:20251102T060000
END:STANDARD
BEGIN:DAYLIGHT
TZOFFSETFROM:-0500
TZOFFSETTO:-0400
TZNAME:EDT
DTSTART:20260308T070000
END:DAYLIGHT
BEGIN:STANDARD
TZOFFSETFROM:-0400
TZOFFSETTO:-0500
TZNAME:EST
DTSTART:20261101T060000
END:STANDARD
BEGIN:DAYLIGHT
TZOFFSETFROM:-0500
TZOFFSETTO:-0400
TZNAME:EDT
DTSTART:20270314T070000
END:DAYLIGHT
BEGIN:STANDARD
TZOFFSETFROM:-0400
TZOFFSETTO:-0500
TZNAME:EST
DTSTART:20271107T060000
END:STANDARD
END:VTIMEZONE
BEGIN:VEVENT
DTSTART;TZID=America/New_York:20260410T190000
DTEND;TZID=America/New_York:20260410T190000
DTSTAMP:20260423T143811
CREATED:20260302T143747Z
LAST-MODIFIED:20260302T143756Z
UID:10000082-1775847600-1775847600@archdioceseofhartford.org
SUMMARY:Designer Bag Bingo
DESCRIPTION:Looking for an exciting way to spend your Friday night? Join us for Bingo in the Church Hall and experience the thrill of winning designer bags like Michael Kors\, Coach\, Kate Spade and more all while having a blast with friends and family! $45/Ticket includes: 10 Game Cards and 1 door prize raffle ticket. Daubers provided.  Additional game cards\, door prize\, and raffles tickets will be available for purchase.  BYOB and snacks.  Registration is required- Call/text Kathy Slowik at (203) 736-3539.
URL:https://archdioceseofhartford.org/event/designer-bag-bingo/
LOCATION:St. Mary Church\, Derby\, 212 Elizabeth Street\, Derby\, CT\, 06418\, United States
ATTACH;FMTTYPE=image/png:https://archdioceseofhartford.org/wp-content/uploads/2026/03/OLQA-LG-Bingo-2026.png
END:VEVENT
BEGIN:VEVENT
DTSTART;TZID=America/New_York:20260401T183000
DTEND;TZID=America/New_York:20260401T183000
DTSTAMP:20260423T143811
CREATED:20260302T143924Z
LAST-MODIFIED:20260302T143934Z
UID:10000083-1775068200-1775068200@archdioceseofhartford.org
SUMMARY:The Passover Seder and the Last Supper: An Immersive Experience Exploring the Jewish Roots of the Holy Eucharist
DESCRIPTION:*Please note—Pre-registration is required for this event so that the proper amount of food and drink can be prepared.  Please call the office (203-735-3341) to register by Thursday\, March 26.  A suggested offering of $10 can be brought to the event.
URL:https://archdioceseofhartford.org/event/the-passover-seder-and-the-last-supper-an-immersive-experience-exploring-the-jewish-roots-of-the-holy-eucharist/
LOCATION:St. Mary Church\, Derby\, 212 Elizabeth Street\, Derby\, CT\, 06418\, United States
ATTACH;FMTTYPE=image/png:https://archdioceseofhartford.org/wp-content/uploads/2026/03/SEDER.png
END:VEVENT
BEGIN:VEVENT
DTSTART;TZID=America/New_York:20260330T190000
DTEND;TZID=America/New_York:20260330T190000
DTSTAMP:20260423T143811
CREATED:20260302T144212Z
LAST-MODIFIED:20260302T144221Z
UID:10000085-1774897200-1774897200@archdioceseofhartford.org
SUMMARY:Divine Mercy Talk with Meg Bailey
DESCRIPTION:Come and hear about the extraordinary graces Jesus has promised when we honor His Divine Mercy\, especially on Divine Mercy Sunday (the Sunday after Easter).  In this special PowerPoint presentation we will be introduced to the message of Divine Mercy.  Following there will be adoration of the Blessed Sacrament and confession.  The talk and Q&A will run approximately 1 hour.
URL:https://archdioceseofhartford.org/event/divine-mercy-talk-with-meg-bailey/
LOCATION:St. Mary Church\, Derby\, 212 Elizabeth Street\, Derby\, CT\, 06418\, United States
ATTACH;FMTTYPE=image/png:https://archdioceseofhartford.org/wp-content/uploads/2026/03/Divine-Mercy-info.png
END:VEVENT
BEGIN:VEVENT
DTSTART;TZID=America/New_York:20260329T113000
DTEND;TZID=America/New_York:20260329T113000
DTSTAMP:20260423T143811
CREATED:20260302T144049Z
LAST-MODIFIED:20260302T144057Z
UID:10000084-1774783800-1774783800@archdioceseofhartford.org
SUMMARY:Palm Sunday Breakfast and Egg Hunt
DESCRIPTION:Free Breakfast of egg sandwiches\, pastries\, coffee/tea/juice after each Mass hosted by the Knights of Columbus and Egg Hunt with Raffle after the 10:30 am Mass hosted by the Ladies Guild.  BYOB- Bring your own basket!
URL:https://archdioceseofhartford.org/event/palm-sunday-breakfast-and-egg-hunt/
LOCATION:St. Mary Church\, Derby\, 212 Elizabeth Street\, Derby\, CT\, 06418\, United States
ATTACH;FMTTYPE=image/png:https://archdioceseofhartford.org/wp-content/uploads/2026/03/BILINGUAL-Palm-Sunday-2026.png
END:VEVENT
BEGIN:VEVENT
DTSTART;TZID=America/New_York:20260325T173000
DTEND;TZID=America/New_York:20260325T173000
DTSTAMP:20260423T143811
CREATED:20260302T143348Z
LAST-MODIFIED:20260302T143358Z
UID:10000081-1774459800-1774459800@archdioceseofhartford.org
SUMMARY:Bilingual Lenten Reflection
DESCRIPTION:Everyone is invited to our Bilingual Lenten Reflection!  Before the 6pm Feast of the Annunciation of the Lord Mass\, we have a recitation of the Rosary at 5:30 pm.  Afterwards\, we are happy to have a visit from Vivian Mestey who will share her powerful testimony of how God has been working in her life.  She will bring with her the blessed Image of Our Lady of Guadalupe (a copy of Mexico City Basilica’s original).  There will be the opportunity for individual veneration of the Pilgrim Image.
URL:https://archdioceseofhartford.org/event/bilingual-lenten-reflection/
LOCATION:St. Mary Church\, Derby\, 212 Elizabeth Street\, Derby\, CT\, 06418\, United States
ATTACH;FMTTYPE=image/png:https://archdioceseofhartford.org/wp-content/uploads/2026/03/Vivian-Mestey-March-2026-eng-1.png
END:VEVENT
BEGIN:VEVENT
DTSTART;TZID=America/New_York:20260319T190000
DTEND;TZID=America/New_York:20260319T190000
DTSTAMP:20260423T143811
CREATED:20260302T143003Z
LAST-MODIFIED:20260302T143022Z
UID:10000077-1773946800-1773946800@archdioceseofhartford.org
SUMMARY:St. Joseph’s Feast Day
DESCRIPTION:Everyone is invited to a special celebration in our beautiful church on St. Joseph’s Feast Day. We start at 7pm with a Mass and Healing Prayer Service.  Afterwards\, we will continue in the Church Hall downstairs and enjoy coffee and zeppoli (pastry)!  At 8:30 there will be a simple “Tarantella” dance lesson and a fun Italian sing-a-long!  Everyone is encouraged to wear red.
URL:https://archdioceseofhartford.org/event/st-josephs-feast-day/
LOCATION:St. Mary Church\, Derby\, 212 Elizabeth Street\, Derby\, CT\, 06418\, United States
ATTACH;FMTTYPE=image/png:https://archdioceseofhartford.org/wp-content/uploads/2026/03/St.-Joseph-Feast-Day-Flyer-March-2026.png
END:VEVENT
BEGIN:VEVENT
DTSTART;TZID=America/New_York:20260318T190000
DTEND;TZID=America/New_York:20260318T203000
DTSTAMP:20260423T143811
CREATED:20260302T143221Z
LAST-MODIFIED:20260302T143221Z
UID:10000080-1773860400-1773865800@archdioceseofhartford.org
SUMMARY:Power and Grace: A Guide to the Catholic Sacraments
DESCRIPTION:A 4-part multi-media class that delves into the mystery of the sacraments and deepens your experience of God’s love.  Please bring your bible and your questions!  No reservation required.
URL:https://archdioceseofhartford.org/event/power-and-grace-a-guide-to-the-catholic-sacraments/2026-03-18/
LOCATION:St. Mary Church\, Derby\, 212 Elizabeth Street\, Derby\, CT\, 06418\, United States
ATTACH;FMTTYPE=image/png:https://archdioceseofhartford.org/wp-content/uploads/2026/03/Power-and-Grace.png
END:VEVENT
BEGIN:VEVENT
DTSTART;TZID=America/New_York:20260311T190000
DTEND;TZID=America/New_York:20260311T203000
DTSTAMP:20260423T143811
CREATED:20260302T143221Z
LAST-MODIFIED:20260302T143221Z
UID:10000079-1773255600-1773261000@archdioceseofhartford.org
SUMMARY:Power and Grace: A Guide to the Catholic Sacraments
DESCRIPTION:A 4-part multi-media class that delves into the mystery of the sacraments and deepens your experience of God’s love.  Please bring your bible and your questions!  No reservation required.
URL:https://archdioceseofhartford.org/event/power-and-grace-a-guide-to-the-catholic-sacraments/2026-03-11/
LOCATION:St. Mary Church\, Derby\, 212 Elizabeth Street\, Derby\, CT\, 06418\, United States
ATTACH;FMTTYPE=image/png:https://archdioceseofhartford.org/wp-content/uploads/2026/03/Power-and-Grace.png
END:VEVENT
BEGIN:VEVENT
DTSTART;TZID=America/New_York:20260304T190000
DTEND;TZID=America/New_York:20260304T203000
DTSTAMP:20260423T143811
CREATED:20260302T143221Z
LAST-MODIFIED:20260302T143221Z
UID:10000078-1772650800-1772656200@archdioceseofhartford.org
SUMMARY:Power and Grace: A Guide to the Catholic Sacraments
DESCRIPTION:A 4-part multi-media class that delves into the mystery of the sacraments and deepens your experience of God’s love.  Please bring your bible and your questions!  No reservation required.
URL:https://archdioceseofhartford.org/event/power-and-grace-a-guide-to-the-catholic-sacraments/2026-03-04/
LOCATION:St. Mary Church\, Derby\, 212 Elizabeth Street\, Derby\, CT\, 06418\, United States
ATTACH;FMTTYPE=image/png:https://archdioceseofhartford.org/wp-content/uploads/2026/03/Power-and-Grace.png
END:VEVENT
BEGIN:VEVENT
DTSTART;TZID=America/New_York:20251208T180000
DTEND;TZID=America/New_York:20251208T200000
DTSTAMP:20260423T143811
CREATED:20251029T192206Z
LAST-MODIFIED:20251029T192206Z
UID:10000026-1765216800-1765224000@archdioceseofhartford.org
SUMMARY:Advent Evening of Reflection: Healing and Hope through Mary’s Intercession
DESCRIPTION:This is a bilingual event (Eng/Sp) with:  Rosary\, Mass for the Solemnity of the Immaculate Conception\, Testimonial from Vivian Mestey\, Veneration of the Pilgrim Image\, and Music.  Vivian will bring the blessed Pilgrim Image of Our Lady of Guadalupe and share her testimony of how God has been working in her life.
URL:https://archdioceseofhartford.org/event/advent-evening-of-reflection-healing-and-hope-through-marys-intercession/
LOCATION:St. Mary Church\, Derby\, 212 Elizabeth Street\, Derby\, CT\, 06418\, United States
ATTACH;FMTTYPE=image/png:https://archdioceseofhartford.org/wp-content/uploads/2025/10/Unknown.png
END:VEVENT
BEGIN:VEVENT
DTSTART;TZID=America/New_York:20251115T130000
DTEND;TZID=America/New_York:20251115T130000
DTSTAMP:20260423T143811
CREATED:20251029T192408Z
LAST-MODIFIED:20251029T192531Z
UID:10000027-1763211600-1763211600@archdioceseofhartford.org
SUMMARY:Stained Glass & Sacred Song
DESCRIPTION:We will reflect together on the beautiful stained glass windows of St. Mary’s Church and sing hymns based on the windows’ theme.  Afterwards\, everyone is invited for some fellowship\, wine\, and cheese\, in the church hall.
URL:https://archdioceseofhartford.org/event/stained-glass-sacred-song/
LOCATION:St. Mary Church\, Derby\, 212 Elizabeth Street\, Derby\, CT\, 06418\, United States
ATTACH;FMTTYPE=image/jpeg:https://archdioceseofhartford.org/wp-content/uploads/2025/10/Unknown.jpeg
END:VEVENT
END:VCALENDAR